BEGIN:VCALENDAR
VERSION:2.0
PRODID:floktu.com
X-WR-TIMEZONE:Australia/Sydney
X-PUBLISHED-TTL:P1W
BEGIN:VEVENT
UID:FloktuEvent34190@floktu.com
DTSTART;TZID=Australia/Sydney:20260320T183000
SEQUENCE:0
TRANSP:OPAQUE
DTEND;TZID=Australia/Sydney:20260320T230000
LOCATION:The Oxford Hotel\, 368 Oxford Street\, Leederville\, Western Austr
 alia
SUMMARY:2026 UCC Awards Night
DESCRIPTION:Visit https://uccawardsnight2026.floktu.com for more informatio
 n.
DTSTAMP:20260425T034052Z
END:VEVENT
BEGIN:VTIMEZONE
TZID:Australia/Sydney
X-LIC-LOCATION:Australia/Sydney
END:VTIMEZONE
END:VCALENDAR