BEGIN:VCALENDAR
VERSION:2.0
PRODID:floktu.com
X-PUBLISHED-TTL:P1W
BEGIN:VEVENT
UID:FloktuEvent34190@floktu.com
DTSTART:20260320T073000Z
SEQUENCE:0
TRANSP:OPAQUE
DTEND:20260320T120000Z
LOCATION:The Oxford Hotel\, 368 Oxford Street\, Leederville\, Western Austr
 alia
SUMMARY:2026 UCC Awards Night
DESCRIPTION:Visit https://uccawardsnight2026.floktu.com for more informatio
 n.
DTSTAMP:20260425T033728Z
END:VEVENT
END:VCALENDAR